BEGIN:VCALENDAR
VERSION:2.0
PRODID:-//DSDM - Universitas Terbuka - ECPv6.15.18//NONSGML v1.0//EN
CALSCALE:GREGORIAN
METHOD:PUBLISH
X-WR-CALNAME:DSDM - Universitas Terbuka
X-ORIGINAL-URL:https://sdm.ut.ac.id
X-WR-CALDESC:Events for DSDM - Universitas Terbuka
REFRESH-INTERVAL;VALUE=DURATION:PT1H
X-Robots-Tag:noindex
X-PUBLISHED-TTL:PT1H
BEGIN:VTIMEZONE
TZID:Asia/Krasnoyarsk
BEGIN:STANDARD
TZOFFSETFROM:+0700
TZOFFSETTO:+0700
TZNAME:+07
DTSTART:20240101T000000
END:STANDARD
END:VTIMEZONE
BEGIN:VEVENT
DTSTART;TZID=Asia/Krasnoyarsk:20251104T083000
DTEND;TZID=Asia/Krasnoyarsk:20251105T160000
DTSTAMP:20260420T175056
CREATED:20251031T021022Z
LAST-MODIFIED:20251031T021022Z
UID:5611-1762245000-1762358400@sdm.ut.ac.id
SUMMARY:Pelatihan Microsoft Excel untuk Sertifikasi Microsoft Office Specialist (MOS) 
DESCRIPTION:PIC : Adrian dan Trixie
URL:https://sdm.ut.ac.id/event/pelatihan-microsoft-excel-untuk-sertifikasi-microsoft-office-specialist-mos/
LOCATION:Ruang Sinabung\, Gedung Prof. Setijadi Lt. 2\, Universitas Terbuka\, Indonesia
CATEGORIES:Pelatihan
END:VEVENT
BEGIN:VEVENT
DTSTART;TZID=Asia/Krasnoyarsk:20251105T080000
DTEND;TZID=Asia/Krasnoyarsk:20251107T170000
DTSTAMP:20260420T175056
CREATED:20251031T021406Z
LAST-MODIFIED:20251112T025228Z
UID:5614-1762329600-1762534800@sdm.ut.ac.id
SUMMARY:Pelatihan dan Sertifikasi Data Analyst
DESCRIPTION:PIC : Febrian dan Hendrik
URL:https://sdm.ut.ac.id/event/pelatihan-dan-sertifikasi-data-analyst/
LOCATION:Ruang Merbabu\, Gedung Prof. Setijadi Lt. 2\, Universitas Terbuka
CATEGORIES:Pelatihan
END:VEVENT
BEGIN:VEVENT
DTSTART;TZID=Asia/Krasnoyarsk:20251110T080000
DTEND;TZID=Asia/Krasnoyarsk:20251114T203000
DTSTAMP:20260420T175056
CREATED:20251031T021821Z
LAST-MODIFIED:20251031T021821Z
UID:5618-1762761600-1763152200@sdm.ut.ac.id
SUMMARY:Pelatihan Pegawai Pra Purnabakti Tahap 2
DESCRIPTION:PIC : Trixie dan Laras
URL:https://sdm.ut.ac.id/event/pelatihan-pegawai-pra-purnabakti-tahap-2/
LOCATION:Wisma 2 Ruang Rasamala\, Universitas Terbuka
CATEGORIES:Pelatihan
END:VEVENT
BEGIN:VEVENT
DTSTART;TZID=Asia/Krasnoyarsk:20251112T083000
DTEND;TZID=Asia/Krasnoyarsk:20251114T163000
DTSTAMP:20260420T175056
CREATED:20251112T022955Z
LAST-MODIFIED:20251112T022955Z
UID:5651-1762936200-1763137800@sdm.ut.ac.id
SUMMARY:Pelatihan Manajemen Risiko Tahap 2
DESCRIPTION:PIC : Widyasari dan Hendrik
URL:https://sdm.ut.ac.id/event/pelatihan-manajemen-risiko-tahap-2/
LOCATION:Gedung Serbaguna Lt. 1 UT
CATEGORIES:Pelatihan
END:VEVENT
BEGIN:VEVENT
DTSTART;TZID=Asia/Krasnoyarsk:20251120T083000
DTEND;TZID=Asia/Krasnoyarsk:20251121T163000
DTSTAMP:20260420T175056
CREATED:20251119T011541Z
LAST-MODIFIED:20251119T011541Z
UID:5712-1763627400-1763742600@sdm.ut.ac.id
SUMMARY:Pelatihan Auditor Internal ISO 21001:2018
DESCRIPTION:PIC : Febrian dan Trisno
URL:https://sdm.ut.ac.id/event/pelatihan-auditor-internal-iso-210012018/
LOCATION:Ruang Pelatihan Gedung Kualitas Lantai 2
CATEGORIES:Pelatihan
END:VEVENT
BEGIN:VEVENT
DTSTART;TZID=Asia/Krasnoyarsk:20251121T080000
DTEND;TZID=Asia/Krasnoyarsk:20251121T163000
DTSTAMP:20260420T175056
CREATED:20251119T012210Z
LAST-MODIFIED:20251119T012210Z
UID:5716-1763712000-1763742600@sdm.ut.ac.id
SUMMARY:Pelatihan Penulisan Proposal Pengabdian kepada Masyarakat (PkM) BIMA
DESCRIPTION:PIC : Trixie dan Adrian
URL:https://sdm.ut.ac.id/event/pelatihan-penulisan-proposal-pengabdian-kepada-masyarakat-pkm-bima/
LOCATION:Gedung Pusat Kualitas Lt. 3\, Universitas Terbuka
CATEGORIES:Pelatihan
ORGANIZER;CN="PSDM":MAILTO:psdm@ecampus.ut.ac.id
END:VEVENT
BEGIN:VEVENT
DTSTART;TZID=Asia/Krasnoyarsk:20251124T083000
DTEND;TZID=Asia/Krasnoyarsk:20251128T150000
DTSTAMP:20260420T175056
CREATED:20251210T011539Z
LAST-MODIFIED:20251210T011539Z
UID:5720-1763973000-1764342000@sdm.ut.ac.id
SUMMARY:Pelatihan Pengembangan Bahan Asesmen Dasar Tahap 1
DESCRIPTION:PIC : Tami dan Adrian
URL:https://sdm.ut.ac.id/event/pelatihan-pengembangan-bahan-asesmen-dasar-tahap-1/
LOCATION:Gedung Pusat Kualitas Lt. 2
CATEGORIES:Pelatihan
ORGANIZER;CN="PSDM":MAILTO:psdm@ecampus.ut.ac.id
END:VEVENT
BEGIN:VEVENT
DTSTART;TZID=Asia/Krasnoyarsk:20251201T083000
DTEND;TZID=Asia/Krasnoyarsk:20251205T150000
DTSTAMP:20260420T175056
CREATED:20251210T011656Z
LAST-MODIFIED:20251210T011656Z
UID:5724-1764577800-1764946800@sdm.ut.ac.id
SUMMARY:Pelatihan Pengembangan Bahan Asesmen Dasar Tahap 2
DESCRIPTION:PIC : Tami dan Adrian
URL:https://sdm.ut.ac.id/event/pelatihan-pengembangan-bahan-asesmen-dasar-tahap-2/
LOCATION:Gedung Pusat Kualitas Lt. 2
CATEGORIES:Pelatihan
ORGANIZER;CN="PSDM":MAILTO:psdm@ecampus.ut.ac.id
END:VEVENT
BEGIN:VEVENT
DTSTART;TZID=Asia/Krasnoyarsk:20251209T083000
DTEND;TZID=Asia/Krasnoyarsk:20251212T160000
DTSTAMP:20260420T175056
CREATED:20251210T012030Z
LAST-MODIFIED:20251210T012030Z
UID:5729-1765269000-1765555200@sdm.ut.ac.id
SUMMARY:Pelatihan Pengembangan Bahan Pembelajaran
DESCRIPTION:PIC : Trixie dan Adrian
URL:https://sdm.ut.ac.id/event/pelatihan-pengembangan-bahan-pembelajaran/
LOCATION:Gedung Pusat Kualitas Lt. 2
CATEGORIES:Pelatihan
ORGANIZER;CN="PSDM":MAILTO:psdm@ecampus.ut.ac.id
END:VEVENT
BEGIN:VEVENT
DTSTART;TZID=Asia/Krasnoyarsk:20251210T090000
DTEND;TZID=Asia/Krasnoyarsk:20251211T160000
DTSTAMP:20260420T175056
CREATED:20251210T011818Z
LAST-MODIFIED:20251210T011818Z
UID:5726-1765357200-1765468800@sdm.ut.ac.id
SUMMARY:Pelatihan Pengelolaan Arsip Dinamis
DESCRIPTION:PIC : Laras dan Febrian
URL:https://sdm.ut.ac.id/event/pelatihan-pengelolaan-arsip-dinamis/
LOCATION:Gedung Serbaguna Lt. 1 UT
CATEGORIES:Pelatihan
END:VEVENT
BEGIN:VEVENT
DTSTART;TZID=Asia/Krasnoyarsk:20260120T080000
DTEND;TZID=Asia/Krasnoyarsk:20260121T163000
DTSTAMP:20260420T175056
CREATED:20260120T064058Z
LAST-MODIFIED:20260120T064058Z
UID:5736-1768896000-1769013000@sdm.ut.ac.id
SUMMARY:Pelatihan Pembuatan Artikel Berstandar Scopus Berbasis AI untuk Guru Besar
DESCRIPTION:PIC : Trixie dan Adrian
URL:https://sdm.ut.ac.id/event/pelatihan-pembuatan-artikel-berstandar-scopus-berbasis-ai-untuk-guru-besar/
LOCATION:Ruang Pelatihan Gedung Kualitas Lantai 2
CATEGORIES:Pelatihan
END:VEVENT
BEGIN:VEVENT
DTSTART;TZID=Asia/Krasnoyarsk:20260210T090000
DTEND;TZID=Asia/Krasnoyarsk:20260213T160000
DTSTAMP:20260420T175056
CREATED:20260212T010011Z
LAST-MODIFIED:20260213T014248Z
UID:5789-1770714000-1770998400@sdm.ut.ac.id
SUMMARY:Pelatihan Dosen Bidang Pembelajaran Tahap 2
DESCRIPTION:PIC : Tami dan Trixie
URL:https://sdm.ut.ac.id/event/pelatihan-dosen-bidang-pembelajaran-tahap-2/
LOCATION:Gedung Pusat Kualitas Lt. 2
CATEGORIES:Pelatihan
END:VEVENT
BEGIN:VEVENT
DTSTART;TZID=Asia/Krasnoyarsk:20260221T090000
DTEND;TZID=Asia/Krasnoyarsk:20260221T130000
DTSTAMP:20260420T175056
CREATED:20260305T015203Z
LAST-MODIFIED:20260305T015203Z
UID:6038-1771664400-1771678800@sdm.ut.ac.id
SUMMARY:Webinar Pelatihan Calon Tutor Tutorial Program Magister/Doktoral 2025/2026 Genap
DESCRIPTION:PIC : DSDM
URL:https://sdm.ut.ac.id/event/webinar-pelatihan-calon-tutor-tutorial-program-magister-doktoral-2025-2026-genap/
LOCATION:Daring (Ms. Teams)
CATEGORIES:Pelatihan
END:VEVENT
BEGIN:VEVENT
DTSTART;TZID=Asia/Krasnoyarsk:20260228T090000
DTEND;TZID=Asia/Krasnoyarsk:20260301T130000
DTSTAMP:20260420T175056
CREATED:20260305T015311Z
LAST-MODIFIED:20260305T015311Z
UID:6041-1772269200-1772370000@sdm.ut.ac.id
SUMMARY:Webinar Pelatihan Calon Tutor Tuton Program Diploma/Sarjana 2025/2026 Genap
DESCRIPTION:PIC : DSDM
URL:https://sdm.ut.ac.id/event/webinar-pelatihan-calon-tutor-tuton-program-diploma-sarjana-2025-2026-genap/
LOCATION:Daring (Ms. Teams)
CATEGORIES:Pelatihan
END:VEVENT
BEGIN:VEVENT
DTSTART;TZID=Asia/Krasnoyarsk:20260302T133000
DTEND;TZID=Asia/Krasnoyarsk:20260302T150000
DTSTAMP:20260420T175056
CREATED:20260305T015517Z
LAST-MODIFIED:20260305T015517Z
UID:6043-1772458200-1772463600@sdm.ut.ac.id
SUMMARY:Pelantikan Pejabat dan Pelepasan Pegawai Purna Bakti
DESCRIPTION:PIC : DSDM
URL:https://sdm.ut.ac.id/event/pelantikan-pejabat-dan-pelepasan-pegawai-purna-bakti/
LOCATION:UTCC
CATEGORIES:Pelantikan
END:VEVENT
BEGIN:VEVENT
DTSTART;TZID=Asia/Krasnoyarsk:20260402T090000
DTEND;TZID=Asia/Krasnoyarsk:20260402T120000
DTSTAMP:20260420T175056
CREATED:20260401T180543Z
LAST-MODIFIED:20260401T180732Z
UID:6165-1775120400-1775131200@sdm.ut.ac.id
SUMMARY:Webinar Pelatihan Calon Tutor Tuton Tahap 2 Program Diploma/Sarjana 2025/2026 Genap
DESCRIPTION:PIC : DSDM
URL:https://sdm.ut.ac.id/event/webinar-pelatihan-calon-tutor-tutorial-online-tahap-2-2025-2026-genap/
LOCATION:Daring (Ms. Teams)
CATEGORIES:Pelantikan
END:VEVENT
END:VCALENDAR