BEGIN:VCALENDAR
VERSION:2.0
PRODID:-//DSDM - Universitas Terbuka - ECPv6.15.18//NONSGML v1.0//EN
CALSCALE:GREGORIAN
METHOD:PUBLISH
X-WR-CALNAME:DSDM - Universitas Terbuka
X-ORIGINAL-URL:https://sdm.ut.ac.id
X-WR-CALDESC:Events for DSDM - Universitas Terbuka
REFRESH-INTERVAL;VALUE=DURATION:PT1H
X-Robots-Tag:noindex
X-PUBLISHED-TTL:PT1H
BEGIN:VTIMEZONE
TZID:Asia/Krasnoyarsk
BEGIN:STANDARD
TZOFFSETFROM:+0700
TZOFFSETTO:+0700
TZNAME:+07
DTSTART:20240101T000000
END:STANDARD
END:VTIMEZONE
BEGIN:VEVENT
DTSTART;TZID=Asia/Krasnoyarsk:20250702T090000
DTEND;TZID=Asia/Krasnoyarsk:20250703T170000
DTSTAMP:20260419T194008
CREATED:20250630T061945Z
LAST-MODIFIED:20250630T062221Z
UID:4542-1751446800-1751562000@sdm.ut.ac.id
SUMMARY:Pelatihan Master of Ceremony (MC)
DESCRIPTION:Pelatihan Master of Ceremony (MC) \nPIC : Trixie dan Hendrik
URL:https://sdm.ut.ac.id/event/pelatihan-master-of-ceremony-mc/
LOCATION:Wisma 2 Ruang Rasamala\, Universitas Terbuka
CATEGORIES:Pelatihan
ORGANIZER;CN="PSDM":MAILTO:psdm@ecampus.ut.ac.id
END:VEVENT
BEGIN:VEVENT
DTSTART;TZID=Asia/Krasnoyarsk:20250701T083000
DTEND;TZID=Asia/Krasnoyarsk:20250703T163000
DTSTAMP:20260419T194008
CREATED:20250630T065553Z
LAST-MODIFIED:20250630T065844Z
UID:4544-1751358600-1751560200@sdm.ut.ac.id
SUMMARY:Pelatihan ToT Instruktur Bidang Asesmen Dasar
DESCRIPTION:PIC : Tami dan Trisno————- \nTanggal 1 Juli 2025 di Ruang Rasamala\, Wisma 2 Lantai dasar——— \nTanggal 2-3 Juli 2025 di Ruang Sidang gedung LPPM Lantai 3
URL:https://sdm.ut.ac.id/event/pelatihan-tot-instruktur-bidang-asesmen-dasar/
CATEGORIES:Pelatihan
ORGANIZER;CN="PSDM":MAILTO:psdm@ecampus.ut.ac.id
END:VEVENT
BEGIN:VEVENT
DTSTART;TZID=Asia/Krasnoyarsk:20250521T083000
DTEND;TZID=Asia/Krasnoyarsk:20250522T163000
DTSTAMP:20260419T194008
CREATED:20250514T081754Z
LAST-MODIFIED:20250514T082329Z
UID:4424-1747816200-1747931400@sdm.ut.ac.id
SUMMARY:Pelatihan Calon PJTU/PJLU
DESCRIPTION:PIC : Widyasari dan Trisno (ext: 2426)
URL:https://sdm.ut.ac.id/event/pelatihan-calon-pjtu-pjlu/
LOCATION:Gedung Pusat Kualitas Lt. 3\, Universitas Terbuka
CATEGORIES:Pelatihan
ORGANIZER;CN="PSDM":MAILTO:psdm@ecampus.ut.ac.id
END:VEVENT
BEGIN:VEVENT
DTSTART;TZID=Asia/Krasnoyarsk:20250508T080000
DTEND;TZID=Asia/Krasnoyarsk:20250510T163000
DTSTAMP:20260419T194008
CREATED:20250509T054548Z
LAST-MODIFIED:20250509T063652Z
UID:4401-1746691200-1746894600@sdm.ut.ac.id
SUMMARY:Orientasi Kerja Calon Pegawai UT Non PNS
DESCRIPTION:Orientasi Kerja Calon Pegawai Universitas Terbuka Non PNS
URL:https://sdm.ut.ac.id/event/orientasi-kerja-calon-pegawai-ut-non-pns/
LOCATION:Gedung Pusat Kualitas Lt. 3\, Universitas Terbuka
CATEGORIES:Pelatihan
END:VEVENT
BEGIN:VEVENT
DTSTART;TZID=Asia/Krasnoyarsk:20250507T083000
DTEND;TZID=Asia/Krasnoyarsk:20250509T150000
DTSTAMP:20260419T194008
CREATED:20250509T063156Z
LAST-MODIFIED:20250509T064114Z
UID:4406-1746606600-1746802800@sdm.ut.ac.id
SUMMARY:Bootcamp Studi Lanjut (Workshop Scholarship Preparation)
DESCRIPTION:Bootcamp Studi Lanjut (Workshop Scholarship Preparation)
URL:https://sdm.ut.ac.id/event/bootcamp-studi-lanjut-workshop-scholarship-preparation/
LOCATION:Wisma 2 Ruang Rasamala\, Universitas Terbuka
CATEGORIES:Studi Lanjut
ORGANIZER;CN="PSDM":MAILTO:psdm@ecampus.ut.ac.id
END:VEVENT
END:VCALENDAR