BEGIN:VCALENDAR
VERSION:2.0
PRODID:-//DSDM - Universitas Terbuka - ECPv6.15.20//NONSGML v1.0//EN
CALSCALE:GREGORIAN
METHOD:PUBLISH
X-WR-CALNAME:DSDM - Universitas Terbuka
X-ORIGINAL-URL:https://sdm.ut.ac.id
X-WR-CALDESC:Events for DSDM - Universitas Terbuka
REFRESH-INTERVAL;VALUE=DURATION:PT1H
X-Robots-Tag:noindex
X-PUBLISHED-TTL:PT1H
BEGIN:VTIMEZONE
TZID:Asia/Krasnoyarsk
BEGIN:STANDARD
TZOFFSETFROM:+0700
TZOFFSETTO:+0700
TZNAME:+07
DTSTART:20240101T000000
END:STANDARD
END:VTIMEZONE
BEGIN:VEVENT
DTSTART;TZID=Asia/Krasnoyarsk:20251210T090000
DTEND;TZID=Asia/Krasnoyarsk:20251211T160000
DTSTAMP:20260425T180048
CREATED:20251210T011818Z
LAST-MODIFIED:20251210T011818Z
UID:5726-1765357200-1765468800@sdm.ut.ac.id
SUMMARY:Pelatihan Pengelolaan Arsip Dinamis
DESCRIPTION:PIC : Laras dan Febrian
URL:https://sdm.ut.ac.id/event/pelatihan-pengelolaan-arsip-dinamis/
LOCATION:Gedung Serbaguna Lt. 1 UT
CATEGORIES:Pelatihan
END:VEVENT
BEGIN:VEVENT
DTSTART;TZID=Asia/Krasnoyarsk:20260120T080000
DTEND;TZID=Asia/Krasnoyarsk:20260121T163000
DTSTAMP:20260425T180048
CREATED:20260120T064058Z
LAST-MODIFIED:20260120T064058Z
UID:5736-1768896000-1769013000@sdm.ut.ac.id
SUMMARY:Pelatihan Pembuatan Artikel Berstandar Scopus Berbasis AI untuk Guru Besar
DESCRIPTION:PIC : Trixie dan Adrian
URL:https://sdm.ut.ac.id/event/pelatihan-pembuatan-artikel-berstandar-scopus-berbasis-ai-untuk-guru-besar/
LOCATION:Ruang Pelatihan Gedung Kualitas Lantai 2
CATEGORIES:Pelatihan
END:VEVENT
BEGIN:VEVENT
DTSTART;TZID=Asia/Krasnoyarsk:20260210T090000
DTEND;TZID=Asia/Krasnoyarsk:20260213T160000
DTSTAMP:20260425T180048
CREATED:20260212T010011Z
LAST-MODIFIED:20260213T014248Z
UID:5789-1770714000-1770998400@sdm.ut.ac.id
SUMMARY:Pelatihan Dosen Bidang Pembelajaran Tahap 2
DESCRIPTION:PIC : Tami dan Trixie
URL:https://sdm.ut.ac.id/event/pelatihan-dosen-bidang-pembelajaran-tahap-2/
LOCATION:Gedung Pusat Kualitas Lt. 2
CATEGORIES:Pelatihan
END:VEVENT
BEGIN:VEVENT
DTSTART;TZID=Asia/Krasnoyarsk:20260221T090000
DTEND;TZID=Asia/Krasnoyarsk:20260221T130000
DTSTAMP:20260425T180048
CREATED:20260305T015203Z
LAST-MODIFIED:20260305T015203Z
UID:6038-1771664400-1771678800@sdm.ut.ac.id
SUMMARY:Webinar Pelatihan Calon Tutor Tutorial Program Magister/Doktoral 2025/2026 Genap
DESCRIPTION:PIC : DSDM
URL:https://sdm.ut.ac.id/event/webinar-pelatihan-calon-tutor-tutorial-program-magister-doktoral-2025-2026-genap/
LOCATION:Daring (Ms. Teams)
CATEGORIES:Pelatihan
END:VEVENT
BEGIN:VEVENT
DTSTART;TZID=Asia/Krasnoyarsk:20260228T090000
DTEND;TZID=Asia/Krasnoyarsk:20260301T130000
DTSTAMP:20260425T180048
CREATED:20260305T015311Z
LAST-MODIFIED:20260305T015311Z
UID:6041-1772269200-1772370000@sdm.ut.ac.id
SUMMARY:Webinar Pelatihan Calon Tutor Tuton Program Diploma/Sarjana 2025/2026 Genap
DESCRIPTION:PIC : DSDM
URL:https://sdm.ut.ac.id/event/webinar-pelatihan-calon-tutor-tuton-program-diploma-sarjana-2025-2026-genap/
LOCATION:Daring (Ms. Teams)
CATEGORIES:Pelatihan
END:VEVENT
BEGIN:VEVENT
DTSTART;TZID=Asia/Krasnoyarsk:20260302T133000
DTEND;TZID=Asia/Krasnoyarsk:20260302T150000
DTSTAMP:20260425T180048
CREATED:20260305T015517Z
LAST-MODIFIED:20260305T015517Z
UID:6043-1772458200-1772463600@sdm.ut.ac.id
SUMMARY:Pelantikan Pejabat dan Pelepasan Pegawai Purna Bakti
DESCRIPTION:PIC : DSDM
URL:https://sdm.ut.ac.id/event/pelantikan-pejabat-dan-pelepasan-pegawai-purna-bakti/
LOCATION:UTCC
CATEGORIES:Pelantikan
END:VEVENT
BEGIN:VEVENT
DTSTART;TZID=Asia/Krasnoyarsk:20260402T090000
DTEND;TZID=Asia/Krasnoyarsk:20260402T120000
DTSTAMP:20260425T180048
CREATED:20260401T180543Z
LAST-MODIFIED:20260401T180732Z
UID:6165-1775120400-1775131200@sdm.ut.ac.id
SUMMARY:Webinar Pelatihan Calon Tutor Tuton Tahap 2 Program Diploma/Sarjana 2025/2026 Genap
DESCRIPTION:PIC : DSDM
URL:https://sdm.ut.ac.id/event/webinar-pelatihan-calon-tutor-tutorial-online-tahap-2-2025-2026-genap/
LOCATION:Daring (Ms. Teams)
CATEGORIES:Pelantikan
END:VEVENT
BEGIN:VEVENT
DTSTART;TZID=Asia/Krasnoyarsk:20260414T083000
DTEND;TZID=Asia/Krasnoyarsk:20260415T110000
DTSTAMP:20260425T180048
CREATED:20260421T023801Z
LAST-MODIFIED:20260421T023801Z
UID:6175-1776155400-1776250800@sdm.ut.ac.id
SUMMARY:Pelatihan Tes Potensi Akademik Bappenas
DESCRIPTION:PIC : Adrian
URL:https://sdm.ut.ac.id/event/pelatihan-tes-potensi-akademik-bappenas/
LOCATION:Daring (Zoom)
CATEGORIES:Pelatihan
END:VEVENT
BEGIN:VEVENT
DTSTART;TZID=Asia/Krasnoyarsk:20260420T083000
DTEND;TZID=Asia/Krasnoyarsk:20260421T120000
DTSTAMP:20260425T180048
CREATED:20260421T023245Z
LAST-MODIFIED:20260421T023245Z
UID:6172-1776673800-1776772800@sdm.ut.ac.id
SUMMARY:Workshop dan Bimbingan Teknis Aplikasi Bimbingan Online (BIMON)
DESCRIPTION:PIC : Febrian dan Adrian
URL:https://sdm.ut.ac.id/event/workshop-dan-bimbingan-teknis-aplikasi-bimbingan-online-bimon/
LOCATION:UTCC dan ZOOM
CATEGORIES:Pelatihan
END:VEVENT
END:VCALENDAR