BEGIN:VCALENDAR
VERSION:2.0
PRODID:-//DSDM - Universitas Terbuka - ECPv6.15.20//NONSGML v1.0//EN
CALSCALE:GREGORIAN
METHOD:PUBLISH
X-ORIGINAL-URL:https://sdm.ut.ac.id
X-WR-CALDESC:Events for DSDM - Universitas Terbuka
REFRESH-INTERVAL;VALUE=DURATION:PT1H
X-Robots-Tag:noindex
X-PUBLISHED-TTL:PT1H
BEGIN:VTIMEZONE
TZID:Asia/Krasnoyarsk
BEGIN:STANDARD
TZOFFSETFROM:+0700
TZOFFSETTO:+0700
TZNAME:+07
DTSTART:20240101T000000
END:STANDARD
END:VTIMEZONE
BEGIN:VEVENT
DTSTART;TZID=Asia/Krasnoyarsk:20250906T090000
DTEND;TZID=Asia/Krasnoyarsk:20250907T120000
DTSTAMP:20260421T132642
CREATED:20250913T161532Z
LAST-MODIFIED:20250913T161536Z
UID:4843-1757149200-1757246400@sdm.ut.ac.id
SUMMARY:Webinar Pelatihan Calon Tutor Tuton semester 2025/2026 Ganjil
DESCRIPTION:PIC : Hendrik dan Trisno
URL:https://sdm.ut.ac.id/event/webinar-pelatihan-calon-tutor-tuton-semester-2025-2026-ganjil/
LOCATION:Daring
CATEGORIES:Pelatihan
ORGANIZER;CN="PSDM":MAILTO:psdm@ecampus.ut.ac.id
END:VEVENT
BEGIN:VEVENT
DTSTART;TZID=Asia/Krasnoyarsk:20250908T080000
DTEND;TZID=Asia/Krasnoyarsk:20250913T170000
DTSTAMP:20260421T132642
CREATED:20250913T161738Z
LAST-MODIFIED:20250913T161738Z
UID:4845-1757318400-1757782800@sdm.ut.ac.id
SUMMARY:Orientasi Kerja Calon Pegawai Universitas Terbuka Non PNS
DESCRIPTION:PIC : Febrian dan Adrian
URL:https://sdm.ut.ac.id/event/orientasi-kerja-calon-pegawai-universitas-terbuka-non-pns/
LOCATION:Syahida Inn
CATEGORIES:Pelatihan
ORGANIZER;CN="PSDM":MAILTO:psdm@ecampus.ut.ac.id
END:VEVENT
BEGIN:VEVENT
DTSTART;TZID=Asia/Krasnoyarsk:20250915T140000
DTEND;TZID=Asia/Krasnoyarsk:20250915T160000
DTSTAMP:20260421T132642
CREATED:20250915T073127Z
LAST-MODIFIED:20250915T073127Z
UID:4912-1757944800-1757952000@sdm.ut.ac.id
SUMMARY:Pelantikan Pejabat\, Serah Terima Jabatan\, dan Pelepasan Pegawai Purnabakti
DESCRIPTION:PIC : PSDM UT
URL:https://sdm.ut.ac.id/event/pelantikan-pejabat-serah-terima-jabatan-dan-pelepasan-pegawai-purnabakti/
LOCATION:Gedung Pusat Kualitas Lt. 3\, Universitas Terbuka
CATEGORIES:Pelantikan
ORGANIZER;CN="PSDM":MAILTO:psdm@ecampus.ut.ac.id
END:VEVENT
BEGIN:VEVENT
DTSTART;TZID=Asia/Krasnoyarsk:20250923T083000
DTEND;TZID=Asia/Krasnoyarsk:20250924T160000
DTSTAMP:20260421T132642
CREATED:20250917T080713Z
LAST-MODIFIED:20250917T080713Z
UID:4982-1758616200-1758729600@sdm.ut.ac.id
SUMMARY:Pelatihan Artificial Intelligence (AI) untuk Akademik
DESCRIPTION:PIC : Trixie dan Trisno
URL:https://sdm.ut.ac.id/event/pelatihan-artificial-intelligence-ai-untuk-akademik/
LOCATION:Ruang Mahoni\, Wisma 3 Lt. Dasar
CATEGORIES:Pelatihan
ORGANIZER;CN="PSDM":MAILTO:psdm@ecampus.ut.ac.id
END:VEVENT
BEGIN:VEVENT
DTSTART;TZID=Asia/Krasnoyarsk:20250924T140000
DTEND;TZID=Asia/Krasnoyarsk:20250924T150000
DTSTAMP:20260421T132642
CREATED:20250923T073111Z
LAST-MODIFIED:20250923T073111Z
UID:5104-1758722400-1758726000@sdm.ut.ac.id
SUMMARY:SWARA (Seputar Warta) SDM UT dengan Tema Sosialisasi Disiplin Pegawai
DESCRIPTION:PIC : Trixie
URL:https://sdm.ut.ac.id/event/swara-seputar-warta-sdm-ut-dengan-tema-sosialisasi-disiplin-pegawai/
LOCATION:Daring
CATEGORIES:Sosialisasi
ORGANIZER;CN="PSDM":MAILTO:psdm@ecampus.ut.ac.id
END:VEVENT
BEGIN:VEVENT
DTSTART;TZID=Asia/Krasnoyarsk:20250927T090000
DTEND;TZID=Asia/Krasnoyarsk:20250927T160000
DTSTAMP:20260421T132642
CREATED:20250924T024811Z
LAST-MODIFIED:20250924T024811Z
UID:5174-1758963600-1758988800@sdm.ut.ac.id
SUMMARY:Webinar Pelatihan Calon Tutor Tutorial Online Semester 2025/2026 Ganjil Tahap 2
DESCRIPTION:PIC : FAKULTAS\, PPPb\, PSDM UT
URL:https://sdm.ut.ac.id/event/webinar-pelatihan-calon-tutor-tutorial-online-semester-2025-2026-ganjil-tahap-2/
LOCATION:Daring
CATEGORIES:Pelatihan
ORGANIZER;CN="PSDM":MAILTO:psdm@ecampus.ut.ac.id
END:VEVENT
BEGIN:VEVENT
DTSTART;TZID=Asia/Krasnoyarsk:20250930T083000
DTEND;TZID=Asia/Krasnoyarsk:20251002T160000
DTSTAMP:20260421T132642
CREATED:20250923T073255Z
LAST-MODIFIED:20250926T105040Z
UID:5107-1759221000-1759420800@sdm.ut.ac.id
SUMMARY:Pelatihan dan Sertifikasi Manajemen Risiko (CRA)
DESCRIPTION:PIC : Widyasari dan Hendrik
URL:https://sdm.ut.ac.id/event/pelatihan-dan-sertifikat-manajemen-risiko-cra/
LOCATION:Gedung Pusat Kualitas Lt. 3\, Universitas Terbuka
CATEGORIES:Pelatihan
END:VEVENT
END:VCALENDAR